BEGIN:VCALENDAR
VERSION:2.0
PRODID:-//Traumwerk - ECPv6.15.20//NONSGML v1.0//EN
CALSCALE:GREGORIAN
METHOD:PUBLISH
X-WR-CALNAME:Traumwerk
X-ORIGINAL-URL:https://www.traumwerk.de
X-WR-CALDESC:Veranstaltungen für Traumwerk
REFRESH-INTERVAL;VALUE=DURATION:PT1H
X-Robots-Tag:noindex
X-PUBLISHED-TTL:PT1H
BEGIN:VTIMEZONE
TZID:Europe/Berlin
BEGIN:DAYLIGHT
TZOFFSETFROM:+0100
TZOFFSETTO:+0200
TZNAME:CEST
DTSTART:20240331T010000
END:DAYLIGHT
BEGIN:STANDARD
TZOFFSETFROM:+0200
TZOFFSETTO:+0100
TZNAME:CET
DTSTART:20241027T010000
END:STANDARD
BEGIN:DAYLIGHT
TZOFFSETFROM:+0100
TZOFFSETTO:+0200
TZNAME:CEST
DTSTART:20250330T010000
END:DAYLIGHT
BEGIN:STANDARD
TZOFFSETFROM:+0200
TZOFFSETTO:+0100
TZNAME:CET
DTSTART:20251026T010000
END:STANDARD
BEGIN:DAYLIGHT
TZOFFSETFROM:+0100
TZOFFSETTO:+0200
TZNAME:CEST
DTSTART:20260329T010000
END:DAYLIGHT
BEGIN:STANDARD
TZOFFSETFROM:+0200
TZOFFSETTO:+0100
TZNAME:CET
DTSTART:20261025T010000
END:STANDARD
END:VTIMEZONE
BEGIN:VEVENT
DTSTART;TZID=Europe/Berlin:20251122T190000
DTEND;TZID=Europe/Berlin:20251122T190000
DTSTAMP:20260424T051227
CREATED:20251112T222822Z
LAST-MODIFIED:20251113T004018Z
UID:10000002-1763838000-1763838000@www.traumwerk.de
SUMMARY:Salsa Night im Spiegelzelt
DESCRIPTION:Heiße Rhythmen. Coole Moves. Unvergesslicher Abend.\nNach dem Erfolg der letzten Events bringt das Traumwerk auch im November wieder heiße Musik und lateinamerikanisches Lebensgefühl ins Spiegelzelt! \nProgramm: \n\n19:00 – 20:00 UhrBachata Workshop\n20:00 – 21:00 UhrSalsa Workshop\nAb 21:00 UhrOpen Dancefloor\nMitreißende Live-Musik von Yeni Toro & Afroson\n\nGemeinsam tanzen\, lachen & genießen\nDie Salsa Night im Traumwerk ist ein Erlebnis in Kooperation mit dem Salsa Studio Salzburg. Edwin & Claudia freuen sich auf euch – und auf einen Abend\, der noch lange nachklingt. \nEintritt ab € 25\,- (SalsaStudio) \nJetzt Ticket sichern
URL:https://www.traumwerk.de/event/salsa-night-im-spiegelzelt/
LOCATION:Spiegelzelt im Traumwerk\, Zum Traumwerk 1\, Anger-Aufham\, Bayern\, 83454\, Germany
CATEGORIES:Spiegelzelt
ATTACH;FMTTYPE=image/jpeg:https://www.traumwerk.de/wp-content/uploads/2025/08/salsa.jpg
END:VEVENT
END:VCALENDAR